Workbook

Sheet Instructie
A1: Instructie invullen Praktijkfeedbackformulier
A3: Student
A16: Praktijkopleider

Sheet Student
A1: Scores en toelichting student
A2: PH1 Pedagogisch handelen De student zorgt voor een veilig en stimulerend pedagogisch leef- en leerklimaat, rekening houdend met diversiteit. Hij stimuleert het zelfvertrouwen en de motivatie van zijn leerlingen om te leren. Hij onderbouwt zijn eigen pedagogisch handelen met behulp van aangereikte pedagogische inzichten.
A3: a) De student maakt contact met leerlingen en bouwt een relatie met hen op. b) De student verdiept zich aantoonbaar in de leef- en belevingswereld van leerlingen. Hij luistert en reageert empathisch op hen. c) De student waardeert de eigen inbreng van de leerling door van zijn ideeën gebruik te maken. d) De student gebruikt ‘effectieve communicatie’ zoals stem, mimiek en lichaamshouding, oogcontact, ‘grote signalen’ en positie in de groep. e) De student moedigt leerlingen aan, geeft effectieve complimenten en benoemt welk gedrag gewaardeerd wordt. Hij spreekt leerlingen aan op hun gedrag en nodigt uit tot gesprek hierover. f) De student motiveert leerlingen en stimuleert hun betrokkenheid en goede werkhouding. g) De student kan groepsprocessen, rollen en sociale verhoudingen herkennen en conflicten signaleren.
B4: Score | C4: Toelichting student
A5: PH1 | B5: 0
A7: PH2 Bijdragen aan brede pedagogische doelen De student stimuleert de sociaal-emotionele en morele ontwikkeling van leerlingen. Hij draagt, waar nodig met begeleiding, actief bij aan de burgerschapsvorming en de ontwikkeling van elke leerling, aan inclusie en democratisch burgerschap, op grond van de actuele maatschappelijke context en de verwachte toekomstige veranderingen voor leerlingen.
A8: a) De student toont positieve verwachtingen ten aanzien van alle leerlingen in de groep. b) De student erkent en handelt in opdracht van een docent vanuit de drie psychologische basisbehoeften (relatie, competentie, autonomie). c) De student stimuleert leerlingen om mee te doen aan gesprekken in de groep en laat ze luisteren naar elkaar. d) De student laat leerlingen afspraken nakomen die in de groep gemaakt zijn. e) In een (deel)groep bevordert hij samenwerking tussen leerlingen en hanteert hij adequaat de groepsprocessen en de dynamiek daarin. f) De student herkent en respecteert cultuurverschillen tussen school- en thuismilieu.
B9: Score | C9: Toelichting student
A10: PH2 | B10: 0
A12: VDH1 (Vak)didactisch ontwerpen en voorbereiden De student bereidt leeractiviteiten voor waarin hij de leerinhouden van het vakgebied en de inzet van de verschillende (vak)didactische methodieken en middelen duidelijk relateert aan de leerdoelen, het niveau en de kenmerken van de leerlingen.
A13: a) De student informeert zich over de leerlingen bij de leraar met betrekking tot ontwikkelingsniveaus en onderwijsbehoeften en past zijn ontwerp van onderwijsactiviteiten en begeleiding hierop aan. b) De student bereidt onderwijsactiviteiten voor (met en zonder hulp van methodes) waarbij instructie en/of begeleiding, werkvormen en taken passen bij de doelen en de doelgroep. c) De student beschrijft in de voorbereiding nauwkeurig uitleg, instructie, begeleiding en verwerking, waarbij opdrachten voor de leerlingen m.b.v. voorbeeldopdrachten stapsgewijs zijn uitgewerkt. d) De student gebruikt in zijn ontwerp verschillende (activerende) werkvormen en ondersteunende materialen.
B14: Score | C14: Toelichting student
A15: VDH1 | B15: 0
A17: VDH2 (Vak)didactisch uitvoeren De student voert planmatig en doelgericht voorbereide onderwijs- en begeleidingsactiviteiten uit. De student maakt gebruik van (vak) didactische, activerende werkvormen, aansluitend bij gestelde doelen. Daarbij handelt hij met persoonlijke aandacht voor leerlingen en doet recht aan de aanwezige diversiteit.
A18: a) De student kan leerstof volgens het ontworpen materiaal overbrengen in klassikale, groeps- en individuele instructie of begeleiding waarbij hij de structuur van het ontwerp volgt. b) De student zorgt voor interactie met en tussen leerlingen en gebruikt (activerende) werkvormen. c) De student geeft, waar nodig extra uitleg waarbij hij extra leermiddelen inzet en de stappen en denkprocessen die nodig zijn bij de leeractiviteit verwoordt en voordoet. d) De student bevordert de zelfstandigheid van leerlingen en het zelfstandig (ver)werken door taken aan te bieden.
B19: Score | C19: Toelichting student
A20: VDH2 | B20: 0
A22: VDH3 (Vak)didactisch evalueren Bij de uitvoering en na afloop van het onderwijs volgt de student de ontwikkeling van leerlingen in de te bereiken leerdoelen van de leeractiviteit en korte en lange termijn leerdoelen van het vakgebied. De student zorgt voor een passende evaluatie van de ontwikkeling van de leerling.
A23: a) De student observeert leerlingen doelgericht met betrekking tot werk-, denk- en leerprocessen en reageert op gebeurtenissen b) De student besteedt bij zijn onderwijsactiviteiten aandacht aan proces- en productevaluatie met de leerlingen en oefent met opbouwende feedback. c) De student neemt bestaande (methode) toetsen af en corrigeert deze. Hij kan aan de hand van de resultaten de ontwikkeling van de leerlingen beschrijven met betrekking tot de leerdoelen bij de aangeboden leeractiviteit(en).
B24: Score | C24: Toelichting student
A25: VDH3 | B25: 0
A27: OZH1 Onderzoekend Handelen De student bereidt leeractiviteiten voor waarin hij de leerinhouden van het vakgebied en de inzet van de verschillende (vak)didactische methodieken en middelen duidelijk relateert aan de leerdoelen, het niveau en de kenmerken van de leerlingen.
A28: a) De student formuleert onder begeleiding van de leraar passende, specifieke en concrete onderzoeks-/ontwerpvragen en zet voor het beantwoorden daarvan passende (aangereikte) onderzoeksinstrumenten in, zoals vakliteratuur, observaties en leerlingvolgsystemen. b) De student doorloopt in het ontwerp en uitvoering van onderwijsactiviteiten de onderzoekcyclus waarbij hij zijn eigen handelen onderzoekt en evalueert. c) De student deelt de opbrengsten van zijn activiteiten met de opleiding /collega’s.
B29: Score | C29: Toelichting student
A30: OZH1 | B30: 0
A32: PI1 Professioneel ontwikkelen De student reflecteert kritisch op het eigen professionele handelen en de eigen kwaliteiten. De student ontwikkelt voortdurend het werk, leert samen met en van collega’s, op basis van reflectie in interactie met de omgeving. De student stuurt, met begeleiding waar nodig, de eigen voortgezette professionalisering met behulp van reflectie en persoonlijke doelen.
A33: a) De student formuleert op basis van reflectie eigen concrete leervragen en motiveert deze. b) De student betrekt medestudenten en docenten op de opleiding en de stageschool bij eigen leervragen en actiepunten daarbij. c) De student kan hulp en feedback vragen aan collega’s en zich openstellen voor adviezen over zijn functioneren. d) De student evalueert zijn eigen handelen, denken en voelen bij een onderwijsactiviteit waarbij hij vakinhoudelijke expertise gebruikt.
B34: Score | C34: Toelichting student
A35: PI1 | B35: 0
A37: PI2 Professionele identiteit expliciteren De student expliciteert de professionele identiteit door de eigen visie op onderwijs (praktijktheorie) te spiegelen aan die van anderen aan de hand van dilemma’s uit de eigen onderwijspraktijk.
A38: a) De student verwoordt, op grond van ervaringen, zijn mening over onderwijs en opvoeding en onderkent welke waarden en normen daarbij van belang zijn.
B39: Score | C39: Toelichting student
A40: PI2 | B40: 0
A42: Professioneel werken De student communiceert en werkt samen met leerlingen en collega’s. De student organiseert, plant en stelt prioriteiten binnen de taken/taakgebieden. De student handelt volgens morele en beroepsethische normen.
A43: a) De student kan gesprekjes aangaan met leerlingen. Hij is zich daarin bewust van zijn rol en past regels van gespreksvoering en communicatie toe. b) De student maakt op een open en ontspannen manier contact met collega’s. c) De student spreekt ouders aan en bent zelf aanspreekbaar (begroeten, informeel praatje). d) De student praat met de groepsleerkracht over beroepssituaties. e) De student kan verschillende soorten teksten schrijven (leesteksten, reflecties, instructie leerling, email opleider etc.). f) De student kan een duidelijke, samenhangende en verstaanbare instructie en presentatie (op de opleiding) geven.
B44: Score | C44: Toelichting student
A45: PI3 | B45: 0

Sheet Praktijkopleider
A1: Scores en toelichting praktijkopleider
A2: PH1 Pedagogisch handelen De student zorgt voor een veilig en stimulerend pedagogisch leef- en leerklimaat, rekening houdend met diversiteit. Hij stimuleert het zelfvertrouwen en de motivatie van zijn leerlingen om te leren. Hij onderbouwt zijn eigen pedagogisch handelen met behulp van aangereikte pedagogische inzichten.
A3: a) De student maakt contact met leerlingen en bouwt een relatie met hen op. b) De student verdiept zich aantoonbaar in de leef- en belevingswereld van leerlingen. Hij luistert en reageert empathisch op hen. c) De student waardeert de eigen inbreng van de leerling door van zijn ideeën gebruik te maken. d) De student gebruikt ‘effectieve communicatie’ zoals stem, mimiek en lichaamshouding, oogcontact, ‘grote signalen’ en positie in de groep. e) De student moedigt leerlingen aan, geeft effectieve complimenten en benoemt welk gedrag gewaardeerd wordt. Hij spreekt leerlingen aan op hun gedrag en nodigt uit tot gesprek hierover. f) De student motiveert leerlingen en stimuleert hun betrokkenheid en goede werkhouding. g) De student kan groepsprocessen, rollen en sociale verhoudingen herkennen en conflicten signaleren.
B4: Score | C4: Toelichting praktijkopleider
A5: PH1 | B5: 0
A7: PH2 Bijdragen aan brede pedagogische doelen De student stimuleert de sociaal-emotionele en morele ontwikkeling van leerlingen. Hij draagt, waar nodig met begeleiding, actief bij aan de burgerschapsvorming en de ontwikkeling van elke leerling, aan inclusie en democratisch burgerschap, op grond van de actuele maatschappelijke context en de verwachte toekomstige veranderingen voor leerlingen.
A8: a) De student toont positieve verwachtingen ten aanzien van alle leerlingen in de groep. b) De student erkent en handelt in opdracht van een docent vanuit de drie psychologische basisbehoeften (relatie, competentie, autonomie). c) De student stimuleert leerlingen om mee te doen aan gesprekken in de groep en laat ze luisteren naar elkaar. d) De student laat leerlingen afspraken nakomen die in de groep gemaakt zijn. e) In een (deel)groep bevordert hij samenwerking tussen leerlingen en hanteert hij adequaat de groepsprocessen en de dynamiek daarin. f) De student herkent en respecteert cultuurverschillen tussen school- en thuismilieu.
B9: Score | C9: Toelichting praktijkopleider
A10: PH2 | B10: 2
A12: VDH1 (Vak)didactisch ontwerpen en voorbereiden De student bereidt leeractiviteiten voor waarin hij de leerinhouden van het vakgebied en de inzet van de verschillende (vak)didactische methodieken en middelen duidelijk relateert aan de leerdoelen, het niveau en de kenmerken van de leerlingen.
A13: a) De student informeert zich over de leerlingen bij de leraar met betrekking tot ontwikkelingsniveaus en onderwijsbehoeften en past zijn ontwerp van onderwijsactiviteiten en begeleiding hierop aan. b) De student bereidt onderwijsactiviteiten voor (met en zonder hulp van methodes) waarbij instructie en/of begeleiding, werkvormen en taken passen bij de doelen en de doelgroep. c) De student beschrijft in de voorbereiding nauwkeurig uitleg, instructie, begeleiding en verwerking, waarbij opdrachten voor de leerlingen m.b.v. voorbeeldopdrachten stapsgewijs zijn uitgewerkt. d) De student gebruikt in zijn ontwerp verschillende (activerende) werkvormen en ondersteunende materialen.
B14: Score | C14: Toelichting praktijkopleider
A15: VDH1 | B15: 2
A17: VDH2 (Vak)didactisch uitvoeren De student voert planmatig en doelgericht onderwijs- en begeleidingsactiviteiten uit. De student maakt gebruik van (vak) didactische, activerende werkvormen, aansluitend bij gestelde doelen. Daarbij handelt hij met persoonlijke aandacht voor leerlingen en doet recht aan de aanwezige diversiteit.
A18: a) De student kan leerstof volgens het ontworpen materiaal overbrengen in klassikale, groeps- en individuele instructie of begeleiding waarbij hij de structuur van het ontwerp volgt. b) De student zorgt voor interactie met en tussen leerlingen en gebruikt (activerende) werkvormen. c) De student geeft, waar nodig extra uitleg waarbij hij extra leermiddelen inzet en de stappen en denkprocessen die nodig zijn bij de leeractiviteit verwoordt en voordoet. d) De student bevordert de zelfstandigheid van leerlingen en het zelfstandig (ver)werken door taken aan te bieden.
B19: Score | C19: Toelichting praktijkopleider
A20: VDH2 | B20: 0
A22: VDH3 (Vak)didactisch evalueren Bij de uitvoering en na afloop van het onderwijs volgt de student de ontwikkeling van leerlingen in de te bereiken leerdoelen van de leeractiviteit en korte en lange termijn leerdoelen van het vakgebied. De student zorgt voor een passende evaluatie van de ontwikkeling van de leerling
A23: a) De student observeert leerlingen doelgericht met betrekking tot werk-, denk- en leerprocessen en reageert op gebeurtenissen b) De student besteedt bij zijn onderwijsactiviteiten aandacht aan proces- en productevaluatie met de leerlingen en oefent met opbouwende feedback. c) De student neemt bestaande (methode) toetsen af en corrigeert deze. Hij kan aan de hand van de resultaten de ontwikkeling van de leerlingen beschrijven met betrekking tot de leerdoelen bij de aangeboden leeractiviteit(en).
B24: Score | C24: Toelichting praktijkopleider
A25: VDH3 | B25: 0
A27: OZH1 Onderzoekend Handelen De student bereidt leeractiviteiten voor waarin hij de leerinhouden van het vakgebied en de inzet van de verschillende (vak)didactische methodieken en middelen duidelijk relateert aan de leerdoelen, het niveau en de kenmerken van de leerlingen.
A28: a) De student formuleert onder begeleiding van de leraar passende, specifieke en concrete onderzoeks-/ontwerpvragen en zet voor het beantwoorden daarvan passende (aangereikte) onderzoeksinstrumenten in, zoals vakliteratuur, observaties en leerlingvolgsystemen. b) De student doorloopt in het ontwerp en uitvoering van onderwijsactiviteiten de onderzoekcyclus waarbij hij zijn eigen handelen onderzoekt en evalueert. c) De student deelt de opbrengsten van zijn activiteiten met de opleiding /collega’s.
B29: Score | C29: Toelichting praktijkopleider
A30: OZH1 | B30: 0
A32: PI1 Professioneel ontwikkelen De student reflecteert kritisch op het eigen professionele handelen en de eigen kwaliteiten. De student ontwikkelt voortdurend het werk, leert samen met en van collega’s, op basis van reflectie in interactie met de omgeving. De student stuurt, met begeleiding waar nodig, de eigen voortgezette professionalisering met behulp van reflectie en persoonlijke doelen.
A33: a) De student formuleert op basis van reflectie eigen concrete leervragen en motiveert deze. b) De student betrekt medestudenten en docenten op de opleiding en de stageschool bij eigen leervragen en actiepunten daarbij. c) De student kan hulp en feedback vragen aan collega’s en zich openstellen voor adviezen over zijn functioneren. d) De student evalueert zijn eigen handelen, denken en voelen bij een onderwijsactiviteit waarbij hij vakinhoudelijke expertise gebruikt.
B34: Score | C34: Toelichting praktijkopleider
A35: PI1 | B35: 0
A37: PI2 Professionele identiteit expliciteren De student expliciteert de professionele identiteit door de eigen visie op onderwijs (praktijktheorie) te spiegelen aan die van anderen aan de hand van dilemma’s uit de eigen onderwijspraktijk.
A38: a) De student verwoordt, op grond van ervaringen, zijn mening over onderwijs en opvoeding en onderkent welke waarden en normen daarbij van belang zijn.
B39: Score | C39: Toelichting praktijkopleider
A40: PI2 | B40: 0
A42: PI3 Professioneel werken De student communiceert en werkt samen met leerlingen en collega’s. De student organiseert, plant en stelt prioriteiten binnen de taken/taakgebieden. De student handelt volgens morele en beroepsethische normen.
A43: a) De student kan gesprekjes aangaan met leerlingen. Hij is zich daarin bewust van zijn rol en past regels van gespreksvoering en communicatie toe. b) De student maakt op een open en ontspannen manier contact met collega’s. c) De student spreekt ouders aan en bent zelf aanspreekbaar (begroeten, informeel praatje). d) De student praat met de groepsleerkracht over beroepssituaties. e) De student kan verschillende soorten teksten schrijven (leesteksten, reflecties, instructie leerling, email opleider etc.). f) De student kan een duidelijke, samenhangende en verstaanbare instructie en presentatie (op de opleiding) geven.
B44: Score | C44: Toelichting praktijkopleider
A45: PI3 | B45: 0
A46: Instructie praktijkopleider
A47: Na het invullen van de beoordeling, beveilig dan deze sheet, zodat de student deze niet meer kan bewerken.
A48: Klik met je rechtermuis op het tabblad Praktijkopleider hieronder en kies voor 'Blad beveiligen' of 'Protect sheet'
...

Sheet Resultaat
A1: Overzicht
A2: LU | B2: ST | C2: PO | D2: Toelichting Student | E2: Toelichting Praktijkbegeleider
A3: PH1 | B3: =Student!B5 -> 0 | C3: =Praktijkopleider!B5 -> 0 | D3: =IF(Student!C5="", "",Student!C5) | E3: =IF(Praktijkopleider!C5="","",Praktijkopleider!C5)
A4: PH2 | B4: =Student!B10 -> 0 | C4: =Praktijkopleider!B10 -> 2 | D4: =IF(Student!C10="", "",Student!C10) | E4: =IF(Praktijkopleider!C10="","",Praktijkopleider!C10)
A5: VDH1 | B5: =Student!B15 -> 0 | C5: =Praktijkopleider!B15 -> 2 | D5: =IF(Student!C15="", "",Student!C15) | E5: =IF(Praktijkopleider!C15="","",Praktijkopleider!C15)
A6: VDH2 | B6: =Student!B20 -> 0 | C6: =Praktijkopleider!B20 -> 0 | D6: =IF(Student!C20="", "",Student!C20) | E6: =IF(Praktijkopleider!C20="","",Praktijkopleider!C20)
A7: VDH3 | B7: =Student!B25 -> 0 | C7: =Praktijkopleider!B25 -> 0 | D7: =IF(Student!C25="", "",Student!C25) | E7: =IF(Praktijkopleider!C25="","",Praktijkopleider!C25)
A8: OZH1 | B8: =Student!B30 -> 0 | C8: =Praktijkopleider!B30 -> 0
A9: PI1 | B9: =Student!B35 -> 0 | C9: =Praktijkopleider!B35 -> 0 | D9: =IF(Student!C35="", "",Student!C35) | E9: =IF(Praktijkopleider!C35="","",Praktijkopleider!C35)
A10: PI2 | B10: =Student!B40 -> 0 | C10: =Praktijkopleider!B40 -> 0 | D10: =IF(Student!C40="", "",Student!C40) | E10: =IF(Praktijkopleider!C40="","",Praktijkopleider!C40)
A11: P13 | B11: =Student!B45 -> 0 | C11: =Praktijkopleider!B45 -> 0 | D11: =IF(Student!C45="", "",Student!C45) | E11: =IF(Praktijkopleider!C45="","",Praktijkopleider!C45)
