Workbook

Sheet Instructie
A1: Instructie invullen beoordelingsformulier
A3: Student:
A4: · Download het juiste beoordelingsformlier van de fase waarop je beoordeeld wordt via de website werkplekleren;
A5: · Wanneer het bestand op “alleen lezen” staat kan je bovenin het document klikken op “bewerken”;
A6: · Op het tabblad “student” vul je de twee blauwe kolommen in. Je geeft jezelf een score op de 26 deelcriteria en je onderbouwt de gegeven score;
A7: · Na het invullen van het tabblad student sla je het beoordelingsformulier op en stuur je dit naar je praktijkopleider die het tabblad “praktijkopleider” zal invullen;
A8: · Je ontvangt het beoordelingsformulier terug van je praktijkopleider, slaat het op en zet dit op de juiste plek in Onstage zodat de instituutsopleider de resultaten kan inzien.
A10: Praktijkopleider:
A11: · Je ontvangt het beoordelingsformulier van de student;
A12: · Wanneer het bestand op “alleen lezen” staat kan je bovenin het document klikken op “bewerken”.
A13: · Op het tabblad “praktijkopleider” vul je de twee blauwe kolommen in. Je geeft de student een score op de 26 deelcriteria en je onderbouwt de gegeven score. Je vult de score in zonder te kijken naar de ingevulde scores van de student. Opbouw scores:
A14: o Een score 0 (onvoldoende) = een 5 of lager
... A26: · Kerntaak 5 = CC10

Sheet Student
A1: Deeltaken fase 2 | B1: Score student | C1: Voorbeelden die de score onderbouwen
A2: Centraal Criterium 1 - Aandacht en zorg hebben voor kinderen en tegemoet komen aan hun basisbehoeften. | D2: 3 (goed) | E2: 2 (ruim voldoende) | F2: 1 (voldoende) | G2: 0 (onvoldoende)
A3: Contact maken met kinderen, empathisch reageren en een relatie met kinderen opbouwen | D3: De student zoekt doelbewust contact met alle kinderen en houdt rekening met de verschillen tussen kinderen. | E3: De student zoekt doelbewust contact met alle kinderen. | F3: De student gaat op eigen initiatief met de meeste kinderen gesprekjes aan. De kinderen komen ook uit henzelf naar de student toe. | G3: De student gaat nauwelijks op eigen initiatief met de meeste kinderen gesprekjes aan. De kinderen komen af en toe uit henzelf naar de student toe.
A4: Kinderen ondersteunen, aanmoedigen en effectieve complimenten geven en deze constructief formuleren | D4: De student geeft kinderen effectieve complimenten, benoemt structureel welk gedrag gewaardeerd wordt en ook waarom, en zet aanmoedigingen doelbewust in om kinderen individueel te begeleiden. | E4: De student geeft kinderen effectieve complimenten, benoemt regelmatig welk gedrag gewaardeerd wordt en ook waarom, en zet regelmatig aanmoedigingen in om kinderen individueel te begeleiden. | F4: De student geeft kinderen af en toe complimenten en benoemt welk gedrag gewaardeerd wordt. Hij moedigt niet alleen de groep maar ook kinderen individueel aan. | G4: De student geeft kinderen geen effectieve complimenten, noch benoemt welk gedrag gewaardeerd wordt. Hij moedigt nauwelijks de groep of individuele kinderen aan.
A5: Centraal Criterium 2 - Veilig leef- en leerklimaat creëren, duidelijk zijn over gedragsregels, het voorbeeld geven in rekening houden met elkaar. | D5: 3 (goed) | E5: 2 (ruim voldoende) | F5: 1 (voldoende) | G5: 0 (onvoldoende)
A6: Zich bewust zijn van en een open houding hebben bij diversiteit en dit bij kinderen bevorderen | D6: De student bespreekt vanuit een open houding diversiteit en inclusie met kinderen en geeft het goede voorbeeld. De student herkent vooroordelen bij zichzelf en bij kinderen en stelt hier grenzen aan. | E6: De student bespreekt vanuit een open houding diversiteit en inclusie met kinderen en geeft het goede voorbeeld. | F6: De student bespreekt met kinderen hoe ze rekening kunnen houden met elkaar en geeft het goede voorbeeld. | G6: De student bespreekt niet of nauwelijks met kinderen hoe ze rekening kunnen houden met elkaar en geeft niet het goede voorbeeld.
A7: Goede omgang, samenwerking bevorderen en adequaat hanteren van groepsprocessen en de dynamiek daarin. | D7: De student bespreekt met kinderen groepsprocessen, rollen en sociale verhoudingen. Hij bespreekt met kinderen hoe samenwerking en positieve omgang met elkaar kan verbeteren. Hij intervenieert bij conflicten tussen kinderen, bespreekt deze met hen en bevordert wederzijds respect. | E7: De student bespreekt met kinderen groepsprocessen, rollen en sociale verhoudingen. Hij bespreekt met kinderen hoe samenwerking en positieve omgang met elkaar kan verbeteren. Hij intervenieert bij conflicten tussen kinderen en bespreekt deze met hen. | F7: De student bespreekt met kinderen groepsprocessen, rollen en sociale verhoudingen. Hij bespreekt met kinderen hoe samenwerking en positieve omgang met elkaar kan verbeteren. | G7: De student bespreekt niet/nauwelijks met kinderen groepsprocessen, rollen en sociale verhoudingen. Hij bespreekt met kinderen niet/nauwelijks hoe samenwerking en positieve omgang met elkaar kan verbeteren.
A8: Leiding nemen in de groep en afspraken maken met kinderen | D8: De student neemt en houdt de leiding in de groep en betrekt de kinderen bij het zich houden aan de afspraken. Hij houdt rekening met verschillen tussen kinderen. | E8: De student neemt en houdt de leiding in de groep en betrekt de kinderen bij het zich houden aan de afspraken. | F8: De student heeft de leiding in de groep en wisselt onderlinge verwachtingen uit. | G8: De student heeft niet de leiding in de groep en wisselt niet/nauwelijks onderlinge verwachtingen uit.
A9: Klassenregels aan de kinderen toelichten, duidelijke verwachtingen uitspreken, en de klassenregels consequent hanteren | D9: De student spreekt duidelijke verwachtingen uit, hanteert de klassenregels en schoolregels binnen en buiten de klas consequent en bespreekt situaties en regels met de kinderen. Hij houdt rekening met verschillen tussen kinderen. | E9: De student spreekt duidelijke verwachtingen uit, hanteert de klassenregels en schoolregels binnen en buiten de klas consequent en bespreekt situaties en regels met de kinderen. | F9: De student spreekt duidelijke verwachtingen uit, hanteert de klassenregels consequent en bespreekt situaties met de kinderen. | G9: De student spreekt geen duidelijke verwachtingen uit, hanteert niet de klassenregels consequent en bespreekt geen situaties met de kinderen.
A10: Centraal Criterium 3 - Aansluiten bij de beginsituatie en lesdoelen formuleren met passende inhouden, werkvormen en taken en leermaterialen. | D10: 3 (goed) | E10: 2 (ruim voldoende) | F10: 1 (voldoende) | G10: 0 (onvoldoende)
A11: Observeren, signaleren en analyseren van ontwikkelingsniveaus en onderwijsbehoeften | D11: De student analyseert en benoemt bij meerdere vakken op basis van eigen observaties de behoeften van kinderen. Hij maakt hierbij ook gebruik van toetsgegevens. | E11: De student analyseert en benoemt bij ten minste één vak op basis van eigen observaties de behoeften van kinderen. Hij maakt hierbij ook gebruik van toetsgegevens. | F11: De student analyseert en benoemt bij ten minste één vak op basis van eigen observaties de behoeften van kinderen. | G11: De student analyseert nauwelijks en benoemt bij geen enkel vak op basis van eigen observaties de behoeften van kinderen.
A12: Maken lesplanning, rekening houdend met niveaugroepen en de planning van de praktijkopleider. | D12: De student baseert de lesvoorbereiding op de methode- handleiding, overleg met de praktijkopleider, en evaluatie van vorige lessen en de planning van het vervolg. Hij trekt zelfstandig conclusies voor de volgende les en overlegt daarover met de praktijkopleider. Hij bereidt structureel meerdere onderwijsactiviteiten gedurende een dagdeel voor. | E12: De student baseert de lesvoorbereiding op de methode-handleiding, overleg met de praktijkopleider, en evaluatie van vorige lessen en de planning van het vervolg. Hij trekt zelfstandig conclusies voor de volgende les en overlegt daarover met de praktijkopleider. Hij bereidt regelmatig meerdere onderwijsactiviteiten gedurende een dagdeel voor. | F12: De student baseert de lesvoorbereiding op de methode-handleiding, overleg met de praktijkopleider, en evaluatie van vorige lessen en de planning van het vervolg. Hij bereidt af en toe meerdere onderwijsactiviteiten gedurende een dagdeel voor. | G12: De student baseert nauwelijks de lesvoorbereiding op de methodehandleiding, overleg met de praktijkopleider of evaluatie van vorige lessen en de planning van het vervolg. Hij bereidt nauwelijks meer dan één onderwijsactiviteit per dagdeel voor.
A13: Ontwerpen van instructie vanuit kennis over leerprocessen, lesgeven en vakdidactiek, op meerdere niveaus | D13: De student ontwerpt gedifferentieerde instructie mede op basis van de betreffende vakdidactiek. Hij ontwerpt bovendien gedifferentieerde werkvormen en taken. Hij kiest beoordelings- en toetsvormen. | E13: De student ontwerpt gedifferentieerde instructie mede op basis van de betreffende vakdidactiek. Hij ontwerpt bovendien gedifferentieerde werkvormen en taken. | F13: De student ontwerpt gedifferentieerde instructie mede op basis van de betreffende vakdidactiek. | G13: De student ontwerpt geen gedifferentieerde instructie mede op basis van de betreffende vakdidactiek.
... A37: Feedback geven, ontvangen en gebruiken om eigen handelen te verbeteren | D37: De student onderzoekt en evalueert het eigen handelen en betrekt hier anderen bij en hij past ontvangen feedback toe in eigen handelen. | E37: De student geeft op eigen initiatief feedback en past ontvangen feedback toe in eigen handelen. | F37: De student geeft desgevraagd feedback en past ontvangen feedback toe in eigen handelen. | G37: De student geeft nauwelijks desgevraagd feedback en past ontvangen feedback niet toe in eigen handelen.

Sheet Praktijkopleider
A1: Deeltaken fase 2 | B1: Score praktijkopleider | C1: Voorbeelden die de score onderbouwen
A2: Centraal Criterium 1 - Aandacht en zorg hebben voor kinderen en tegemoet komen aan hun basisbehoeften. | D2: 3 (goed) | E2: 2 (ruim voldoende) | F2: 1 (voldoende) | G2: 0 (onvoldoende)
A3: Contact maken met kinderen, empathisch reageren en een relatie met kinderen opbouwen | D3: De student zoekt doelbewust contact met alle kinderen en houdt rekening met de verschillen tussen kinderen. | E3: De student zoekt doelbewust contact met alle kinderen. | F3: De student gaat op eigen initiatief met de meeste kinderen gesprekjes aan. De kinderen komen ook uit henzelf naar de student toe. | G3: De student gaat nauwelijks op eigen initiatief met de meeste kinderen gesprekjes aan. De kinderen komen af en toe uit henzelf naar de student toe.
A4: Kinderen ondersteunen, aanmoedigen en effectieve complimenten geven en deze constructief formuleren | D4: De student geeft kinderen effectieve complimenten, benoemt structureel welk gedrag gewaardeerd wordt en ook waarom, en zet aanmoedigingen doelbewust in om kinderen individueel te begeleiden. | E4: De student geeft kinderen effectieve complimenten, benoemt regelmatig welk gedrag gewaardeerd wordt en ook waarom, en zet regelmatig aanmoedigingen in om kinderen individueel te begeleiden. | F4: De student geeft kinderen af en toe complimenten en benoemt welk gedrag gewaardeerd wordt. Hij moedigt niet alleen de groep maar ook kinderen individueel aan. | G4: De student geeft kinderen geen effectieve complimenten, noch benoemt welk gedrag gewaardeerd wordt. Hij moedigt nauwelijks de groep of individuele kinderen aan.
A5: Centraal Criterium 2 - Veilig leef- en leerklimaat creëren, duidelijk zijn over gedragsregels, het voorbeeld geven in rekening houden met elkaar. | D5: 3 (goed) | E5: 2 (ruim voldoende) | F5: 1 (voldoende) | G5: 0 (onvoldoende)
A6: Zich bewust zijn van en een open houding hebben bij diversiteit en dit bij kinderen bevorderen | D6: De student bespreekt vanuit een open houding diversiteit en inclusie met kinderen en geeft het goede voorbeeld. De student herkent vooroordelen bij zichzelf en bij kinderen en stelt hier grenzen aan. | E6: De student bespreekt vanuit een open houding diversiteit en inclusie met kinderen en geeft het goede voorbeeld. | F6: De student bespreekt met kinderen hoe ze rekening kunnen houden met elkaar en geeft het goede voorbeeld. | G6: De student bespreekt niet of nauwelijks met kinderen hoe ze rekening kunnen houden met elkaar en geeft niet het goede voorbeeld.
A7: Goede omgang, samenwerking bevorderen en adequaat hanteren van groepsprocessen en de dynamiek daarin. | D7: De student bespreekt met kinderen groepsprocessen, rollen en sociale verhoudingen. Hij bespreekt met kinderen hoe samenwerking en positieve omgang met elkaar kan verbeteren. Hij intervenieert bij conflicten tussen kinderen, bespreekt deze met hen en bevordert wederzijds respect. | E7: De student bespreekt met kinderen groepsprocessen, rollen en sociale verhoudingen. Hij bespreekt met kinderen hoe samenwerking en positieve omgang met elkaar kan verbeteren. Hij intervenieert bij conflicten tussen kinderen en bespreekt deze met hen. | F7: De student bespreekt met kinderen groepsprocessen, rollen en sociale verhoudingen. Hij bespreekt met kinderen hoe samenwerking en positieve omgang met elkaar kan verbeteren. | G7: De student bespreekt niet/nauwelijks met kinderen groepsprocessen, rollen en sociale verhoudingen. Hij bespreekt met kinderen niet/nauwelijks hoe samenwerking en positieve omgang met elkaar kan verbeteren.
A8: Leiding nemen in de groep en afspraken maken met kinderen | D8: De student neemt en houdt de leiding in de groep en betrekt de kinderen bij het zich houden aan de afspraken. Hij houdt rekening met verschillen tussen kinderen. | E8: De student neemt en houdt de leiding in de groep en betrekt de kinderen bij het zich houden aan de afspraken. | F8: De student heeft de leiding in de groep en wisselt onderlinge verwachtingen uit. | G8: De student heeft niet de leiding in de groep en wisselt niet/nauwelijks onderlinge verwachtingen uit.
A9: Klassenregels aan de kinderen toelichten, duidelijke verwachtingen uitspreken, en de klassenregels consequent hanteren | D9: De student spreekt duidelijke verwachtingen uit, hanteert de klassenregels en schoolregels binnen en buiten de klas consequent en bespreekt situaties en regels met de kinderen. Hij houdt rekening met verschillen tussen kinderen. | E9: De student spreekt duidelijke verwachtingen uit, hanteert de klassenregels en schoolregels binnen en buiten de klas consequent en bespreekt situaties en regels met de kinderen. | F9: De student spreekt duidelijke verwachtingen uit, hanteert de klassenregels consequent en bespreekt situaties met de kinderen. | G9: De student spreekt geen duidelijke verwachtingen uit, hanteert niet de klassenregels consequent en bespreekt geen situaties met de kinderen.
A10: Centraal Criterium 3 - Aansluiten bij de beginsituatie en lesdoelen formuleren met passende inhouden, werkvormen en taken en leermaterialen. | D10: 3 (goed) | E10: 2 (ruim voldoende) | F10: 1 (voldoende) | G10: 0 (onvoldoende)
A11: Observeren, signaleren en analyseren van ontwikkelingsniveaus en onderwijsbehoeften | D11: De student analyseert en benoemt bij meerdere vakken op basis van eigen observaties de behoeften van kinderen. Hij maakt hierbij ook gebruik van toetsgegevens. | E11: De student analyseert en benoemt bij ten minste één vak op basis van eigen observaties de behoeften van kinderen. Hij maakt hierbij ook gebruik van toetsgegevens. | F11: De student analyseert en benoemt bij ten minste één vak op basis van eigen observaties de behoeften van kinderen. | G11: De student analyseert nauwelijks en benoemt bij geen enkel vak op basis van eigen observaties de behoeften van kinderen.
A12: Maken lesplanning, rekening houdend met niveaugroepen en de planning van de praktijkopleider. | D12: De student baseert de lesvoorbereiding op de methode- handleiding, overleg met de praktijkopleider, en evaluatie van vorige lessen en de planning van het vervolg. Hij trekt zelfstandig conclusies voor de volgende les en overlegt daarover met de praktijkopleider. Hij bereidt structureel meerdere onderwijsactiviteiten gedurende een dagdeel voor. | E12: De student baseert de lesvoorbereiding op de methode-handleiding, overleg met de praktijkopleider, en evaluatie van vorige lessen en de planning van het vervolg. Hij trekt zelfstandig conclusies voor de volgende les en overlegt daarover met de praktijkopleider. Hij bereidt regelmatig meerdere onderwijsactiviteiten gedurende een dagdeel voor. | F12: De student baseert de lesvoorbereiding op de methode-handleiding, overleg met de praktijkopleider, en evaluatie van vorige lessen en de planning van het vervolg. Hij bereidt af en toe meerdere onderwijsactiviteiten gedurende een dagdeel voor. | G12: De student baseert nauwelijks de lesvoorbereiding op de methodehandleiding, overleg met de praktijkopleider of evaluatie van vorige lessen en de planning van het vervolg. Hij bereidt nauwelijks meer dan één onderwijsactiviteit per dagdeel voor.
A13: Ontwerpen van instructie vanuit kennis over leerprocessen, lesgeven en vakdidactiek, op meerdere niveaus | D13: De student ontwerpt gedifferentieerde instructie mede op basis van de betreffende vakdidactiek. Hij ontwerpt bovendien gedifferentieerde werkvormen en taken. Hij kiest beoordelings- en toetsvormen. | E13: De student ontwerpt gedifferentieerde instructie mede op basis van de betreffende vakdidactiek. Hij ontwerpt bovendien gedifferentieerde werkvormen en taken. | F13: De student ontwerpt gedifferentieerde instructie mede op basis van de betreffende vakdidactiek. | G13: De student ontwerpt geen gedifferentieerde instructie mede op basis van de betreffende vakdidactiek.
... A37: Feedback geven, ontvangen en gebruiken om eigen handelen te verbeteren | D37: De student onderzoekt en evalueert het eigen handelen en betrekt hier anderen bij en hij past ontvangen feedback toe in eigen handelen. | E37: De student geeft op eigen initiatief feedback en past ontvangen feedback toe in eigen handelen. | F37: De student geeft desgevraagd feedback en past ontvangen feedback toe in eigen handelen. | G37: De student geeft nauwelijks desgevraagd feedback en past ontvangen feedback niet toe in eigen handelen.

Sheet Resultaat
B1: Resultaten
B2: CENTRAAL CRITERIUM | D2: Score Student | E2: Score Praktijkbegeleider
B3: CC1 | C3: Aandacht en zorg hebben voor kinderen en tegemoet komen aan hun basisbehoeften. | D3: =IFERROR(AVERAGE(Student!B3:B4),"Incompleet") -> Incompleet | E3: =IFERROR(AVERAGE(Praktijkopleider!B3:B4),"Incompleet") -> Incompleet
B4: CC2 | C4: Veilig leef- en leerklimaat creëren, duidelijk zijn over gedragsregels, het voorbeeld geven in rekening houden met elkaar. | D4: =IFERROR(AVERAGE(Student!B6:B9),"Incompleet") -> Incompleet | E4: =IFERROR(AVERAGE(Praktijkopleider!B6:B9),"Incompleet") -> Incompleet
B5: CC3 | C5: Aansluiten bij de beginsituatie en lesdoelen formuleren met passende inhouden, werkvormen en taken en leermaterialen. | D5: =IFERROR(AVERAGE(Student!B11:B14),"Incompleet") -> Incompleet | E5: =IFERROR(AVERAGE(Praktijkopleider!B11:B14),"Incompleet") -> Incompleet
B6: CC4 | C6: Systematisch gebruiken van evaluaties bij het voorbereiden van onderwijsactiviteiten. | D6: =IFERROR(AVERAGE(Student!B16),"Incompleet") -> Incompleet | E6: =IFERROR(AVERAGE(Praktijkopleider!B16),"Incompleet") -> Incompleet
B7: CC5 | C7: Met de kinderen een onderwijsactiviteit starten, hen motiveren en aansluiten bij hun voorkennis. | D7: =IFERROR(AVERAGE(Student!B18:B19),"Incompleet") -> Incompleet | E7: =IFERROR(AVERAGE(Praktijkopleider!B18:B19),"Incompleet") -> Incompleet
B8: CC6 | C8: Geven van doelgerichte en gedifferentieerde instructie met gebruik van relevante (pedagogische, onderwijspsychologische en vakdidactische) kennis. | D8: =IFERROR(AVERAGE(Student!B21:B22),"Incompleet") -> Incompleet | E8: =IFERROR(AVERAGE(Praktijkopleider!B21:B22),"Incompleet") -> Incompleet
B9: CC7 | C9: Kinderen aan het werk zetten en houden met taken en werkvormen passend bij de lesdoelen. | D9: =IFERROR(AVERAGE(Student!B24:B25),"Incompleet") -> Incompleet | E9: =IFERROR(AVERAGE(Praktijkopleider!B24:B25),"Incompleet") -> Incompleet
B10: CC8 | C10: Begeleiden van kinderen bij hun leerproces met gebruik van relevante kennis, behouden van het overzicht en samen de les evalueren. | D10: =IFERROR(AVERAGE(Student!B27:B30),"Incompleet") -> Incompleet | E10: =IFERROR(AVERAGE(Praktijkopleider!B27:B30),"Incompleet") -> Incompleet
B11: CC9 | C11: Open en professioneel communiceren met volwassenen. | D11: =IFERROR(AVERAGE(Student!B32:B34),"Incompleet") -> Incompleet | E11: =IFERROR(AVERAGE(Praktijkopleider!B32:B34),"Incompleet") -> Incompleet
B12: CC10 | C12: Leren van feedback en reflectie, zowel individueel als gezamenlijk. | D12: =IFERROR(AVERAGE(Student!B36:B37),"Incompleet") -> Incompleet | E12: =IFERROR(AVERAGE(Praktijkopleider!B36:B37),"Incompleet") -> Incompleet
B17: KERNTAKEN | D17: Score Student | E17: Score Praktijkopleider
B18: KT 1 | C18: Opbouwen en onderhouden van een ondersteunende relatie met kinderen, leidinggeven aan de groep en zorgen voor een goed en pedagogisch adequaat leerklimaat. | D18: =IFERROR(AVERAGE(D3:D4),"Incompleet") -> Incompleet | E18: =IFERROR(AVERAGE(E3:E4),"Incompleet") -> Incompleet
B19: KT 2 | C19: Professioneel voorbereiden en evalueren van onderwijsactiviteiten. | D19: =IFERROR(AVERAGE(D5:D6),"Incompleet") -> Incompleet | E19: =IFERROR(AVERAGE(E5:E6),"Incompleet") -> Incompleet
B20: KT 3 | C20: Professioneel uitvoeren van onderwijsactiviteiten en volgen en begeleiden van kinderen. | D20: =IFERROR(AVERAGE(D7:D10),"Incompleet") -> Incompleet | E20: =IFERROR(AVERAGE(E7:E10),"Incompleet") -> Incompleet
B21: KT 4 | C21: Communiceren, overleggen en samenwerken met ouders, collega’s en andere professionals. | D21: =IFERROR(AVERAGE(D11),"Incompleet") -> Incompleet | E21: =IFERROR(AVERAGE(E11),"Incompleet") -> Incompleet
B22: KT 5 | C22: Werken aan professionele ontwikkeling | D22: =IFERROR(AVERAGE(D12),"Incompleet") -> Incompleet | E22: =IFERROR(AVERAGE(E12),"Incompleet") -> Incompleet
